BEGIN:VCALENDAR
VERSION:2.0
PRODID:-//Tier 1 Executive Protection, Security, and Firearms Training - ECPv6.15.20//NONSGML v1.0//EN
CALSCALE:GREGORIAN
METHOD:PUBLISH
X-WR-CALNAME:Tier 1 Executive Protection, Security, and Firearms Training
X-ORIGINAL-URL:https://tier1epsecurity.com
X-WR-CALDESC:Events for Tier 1 Executive Protection, Security, and Firearms Training
REFRESH-INTERVAL;VALUE=DURATION:PT1H
X-Robots-Tag:noindex
X-PUBLISHED-TTL:PT1H
BEGIN:VTIMEZONE
TZID:UTC
BEGIN:STANDARD
TZOFFSETFROM:+0000
TZOFFSETTO:+0000
TZNAME:UTC
DTSTART:20220101T000000
END:STANDARD
END:VTIMEZONE
BEGIN:VTIMEZONE
TZID:America/New_York
BEGIN:DAYLIGHT
TZOFFSETFROM:-0500
TZOFFSETTO:-0400
TZNAME:EDT
DTSTART:20220313T070000
END:DAYLIGHT
BEGIN:STANDARD
TZOFFSETFROM:-0400
TZOFFSETTO:-0500
TZNAME:EST
DTSTART:20221106T060000
END:STANDARD
BEGIN:DAYLIGHT
TZOFFSETFROM:-0500
TZOFFSETTO:-0400
TZNAME:EDT
DTSTART:20230312T070000
END:DAYLIGHT
BEGIN:STANDARD
TZOFFSETFROM:-0400
TZOFFSETTO:-0500
TZNAME:EST
DTSTART:20231105T060000
END:STANDARD
BEGIN:DAYLIGHT
TZOFFSETFROM:-0500
TZOFFSETTO:-0400
TZNAME:EDT
DTSTART:20240310T070000
END:DAYLIGHT
BEGIN:STANDARD
TZOFFSETFROM:-0400
TZOFFSETTO:-0500
TZNAME:EST
DTSTART:20241103T060000
END:STANDARD
END:VTIMEZONE
BEGIN:VEVENT
DTSTART;TZID=UTC:20230723T080000
DTEND;TZID=UTC:20230723T170000
DTSTAMP:20260423T184535
CREATED:20230717T175810Z
LAST-MODIFIED:20230717T175810Z
UID:684-1690099200-1690131600@tier1epsecurity.com
SUMMARY:Yearly G license Requalifications
DESCRIPTION:
URL:https://tier1epsecurity.com/event/yearly-g-license-requalifications/
END:VEVENT
BEGIN:VEVENT
DTSTART;VALUE=DATE:20230722
DTEND;VALUE=DATE:20230723
DTSTAMP:20260423T184535
CREATED:20230717T175405Z
LAST-MODIFIED:20230717T175405Z
UID:682-1689984000-1690070399@tier1epsecurity.com
SUMMARY:State of Florida armed G class training
DESCRIPTION:
URL:https://tier1epsecurity.com/event/state-of-florida-armed-g-class-training/
END:VEVENT
BEGIN:VEVENT
DTSTART;TZID=UTC:20230414T080000
DTEND;TZID=UTC:20230418T170000
DTSTAMP:20260423T184535
CREATED:20230327T151517Z
LAST-MODIFIED:20230327T151517Z
UID:667-1681459200-1681837200@tier1epsecurity.com
SUMMARY:Executive Protection Certification
DESCRIPTION:Get trained and certified to be a Executive Protection Agent.
URL:https://tier1epsecurity.com/event/executive-protection-certification/
END:VEVENT
BEGIN:VEVENT
DTSTART;VALUE=DATE:20230406
DTEND;VALUE=DATE:20230410
DTSTAMP:20260423T184535
CREATED:20230327T152639Z
LAST-MODIFIED:20230327T152639Z
UID:671-1680739200-1681084799@tier1epsecurity.com
SUMMARY:Security event
DESCRIPTION:Security event april 6\,7\,8\,9th
URL:https://tier1epsecurity.com/event/security-event/
END:VEVENT
BEGIN:VEVENT
DTSTART;TZID=UTC:20230402T080000
DTEND;TZID=UTC:20230402T120000
DTSTAMP:20260423T184535
CREATED:20230327T152114Z
LAST-MODIFIED:20230327T152114Z
UID:669-1680422400-1680436800@tier1epsecurity.com
SUMMARY:State of Florida G license yearly requalification
DESCRIPTION:4 hour yearly state G license armed guard requalification $175.00
URL:https://tier1epsecurity.com/event/state-of-florida-g-license-yearly-requalification/
END:VEVENT
BEGIN:VEVENT
DTSTART;TZID=UTC:20230329T160000
DTEND;TZID=UTC:20230329T193000
DTSTAMP:20260423T184535
CREATED:20230209T002230Z
LAST-MODIFIED:20230209T002230Z
UID:605-1680105600-1680118200@tier1epsecurity.com
SUMMARY:Basic Rifle Skills and Training
DESCRIPTION:Learn basic rifle skills\, safety rules\, and live fire training.  This 3-hour class will be conducted in 1 day.  Classroom will consist of power point presentations discussing safety rules\, proper rifle handling skills\, and basic rifle self-defense.  We will discuss grip\, stance\, sight alignment\, sight picture\, and movement.  Once we are done in the classroom\, we will head to the range and perform live fire drills. \nCost $150.00 per student.  Price includes range fee and targets.  Student must provide 100 rounds\, rifle and at least 2 magazines. \nTactical rifle class
URL:https://tier1epsecurity.com/event/basic-rifle-skills-and-training/
END:VEVENT
BEGIN:VEVENT
DTSTART;TZID=UTC:20230326T100000
DTEND;TZID=UTC:20230326T140000
DTSTAMP:20260423T184535
CREATED:20230205T165636Z
LAST-MODIFIED:20230205T165636Z
UID:558-1679824800-1679839200@tier1epsecurity.com
SUMMARY:State of Florida G license annual requalification
DESCRIPTION:Don’t let your license lapse!!   State of Florida G license holders are required annually to take a 4-hour classroom and live fire qualification course.  In this 4-hour course\, we will review laws\, basic gun handling and safety.  You will be given a 25-question written test and a qualification course of live fire on the range.  Failure will result in student having to retake the 4-hour course and repay\, or possible loss of license.  No refunds will be given. \n*Cost $175.00 per student.  Range fees and targets included.  Student must provide\, handgun\, 3 magazines\, magazine holder\, duty style belt and 150 rounds of ammunition. (Less ammunition will be needed if you qualify on first or second round)
URL:https://tier1epsecurity.com/event/state-of-florida-g-license-annual-requalification-2/
END:VEVENT
BEGIN:VEVENT
DTSTART;TZID=UTC:20230325T100000
DTEND;TZID=UTC:20230325T140000
DTSTAMP:20260423T184535
CREATED:20230205T171748Z
LAST-MODIFIED:20230205T171748Z
UID:572-1679738400-1679752800@tier1epsecurity.com
SUMMARY:Women's only concealed weapons course
DESCRIPTION:Tier1 is proud to hold monthly women’s only concealed weapons training and self-defense classes.  This class will discuss Florida statues and laws\, self defense\, gun safety\, and proper gun handling skills. The student will learn about sight alignment\, sight picture\, proper grip\, stance\, and firing techniques.  We will practice loading and unloading of the firearm\, malfunction drills and how to correct them\, and live fire drills on the range. \nPrivate  and group classes available(price may vary) \nCost $129.95 per student.  (Price includes\, gun rental\, ammo\, targets and range fees)
URL:https://tier1epsecurity.com/event/womens-only-concealed-weapons-course/
END:VEVENT
BEGIN:VEVENT
DTSTART;TZID=UTC:20230320T090000
DTEND;TZID=UTC:20230320T130000
DTSTAMP:20260423T184535
CREATED:20230205T170624Z
LAST-MODIFIED:20230205T170624Z
UID:566-1679302800-1679317200@tier1epsecurity.com
SUMMARY:State of Florida G license requalifications
DESCRIPTION:Don’t let your license lapse!!   State of Florida G license holders are required annually to take a 4-hour classroom and live fire qualification course.  In this 4-hour course\, we will review laws\, basic gun handling and safety.  You will be given a 25-question written test and a qualification course of live fire on the range.  Failure will result in student having to retake the 4-hour course and repay\, or possible loss of license.  No refunds will be given. \n*Cost $175.00 per student.  Range fees and targets included.  Student must provide\, handgun\, 3 magazines\, magazine holder\, duty style belt and 150 rounds of ammunition. (Less ammunition will be needed if you qualify on first or second round)
URL:https://tier1epsecurity.com/event/state-of-florida-g-license-requalifications/
END:VEVENT
BEGIN:VEVENT
DTSTART;TZID=UTC:20230318T100000
DTEND;TZID=UTC:20230318T140000
DTSTAMP:20260423T184535
CREATED:20230205T171432Z
LAST-MODIFIED:20230205T171432Z
UID:570-1679133600-1679148000@tier1epsecurity.com
SUMMARY:Concealed Weapons License Course
DESCRIPTION:Learn basic firearm safety rules\, laws\, and safe gun handling techniques.  During this 4-hour class\, you will learn proper grip\, stance and firing techniques. You will learn about sight alignment\, sight picture\, and the proper time to use them.  We will study laws\, case reviews\, what to do and say if you are ever involved in a self-defense shooting.  This training is required in the State of Florida to obtain your CCW permit. \nCouples\, groups\, and private training available. \nCost $129.95 per student.  (Ammo\, gun rental\, range fee and targets included in price)
URL:https://tier1epsecurity.com/event/concealed-weapons-license-course/
END:VEVENT
BEGIN:VEVENT
DTSTART;TZID=UTC:20230317T170000
DTEND;TZID=UTC:20230317T183000
DTSTAMP:20260423T184535
CREATED:20230205T165210Z
LAST-MODIFIED:20230205T165210Z
UID:555-1679072400-1679077800@tier1epsecurity.com
SUMMARY:Cowboy Friday Nights!!  Lever action rifles and single action revolver range night
DESCRIPTION:Come out for some cowboy fun\,  shoot steel and paper targets with lever action rifle and single action revolvers. Basic handling and firing techniques.
URL:https://tier1epsecurity.com/event/cowboy-friday-nights-lever-action-rifles-and-single-action-revolver-range-night/
END:VEVENT
BEGIN:VEVENT
DTSTART;TZID=UTC:20230314T170000
DTEND;TZID=UTC:20230314T190000
DTSTAMP:20260423T184535
CREATED:20230205T165935Z
LAST-MODIFIED:20230205T165935Z
UID:560-1678813200-1678820400@tier1epsecurity.com
SUMMARY:Shotgun basic skills course
DESCRIPTION:This basic 4-hour shotgun course will cover safe handling\, loading\, unloading and live fire exercises.  Student will learn proper grip\, stance and firing techniques. Reloading and movement drills.  Basic home and self-defense with a shotgun. \nCost $135.00 per student.  Range fee and target included.  Student must provide 50 rounds of “target” shotgun shells and shotgun
URL:https://tier1epsecurity.com/event/shotgun-basic-skills-course/
END:VEVENT
BEGIN:VEVENT
DTSTART;TZID=UTC:20230310T080000
DTEND;TZID=UTC:20230312T173000
DTSTAMP:20260423T184535
CREATED:20230205T164022Z
LAST-MODIFIED:20230205T164022Z
UID:549-1678435200-1678642200@tier1epsecurity.com
SUMMARY:28 hour State Of Florida G license course
DESCRIPTION:This 28-hour course is mandatory to become an armed security guard in the State of Florida. The course will include a student handbook\, and classroom discussion about Florida statutes. Topics will include; what a armed security guard can and can not do legally\, observation and report writing\, firearms safety and firearms education. The student will learn basic and advanced handgun skills. This course will include a written state examination and a live fire range qualification (must shoot course 3 times).  Student MUST pass both tests to the minimum state standards. Failure to pass either test  will result in no certificate of completion. Student must repay and repeat training if course is failed.  No refunds will be issued.  You must attend all 28 hours of this course. Student must have successfully completed the state 40 hour unarmed security guard “D” course to attend. \n*Cost $275 per student.  Range Fees and targets included. Student must supply handgun\, 150 rounds of ammunition\, 3 magazines\, duty style belt and magazine holder.  (Student may rent gun and ammunition at an additional cost of $125.)
URL:https://tier1epsecurity.com/event/28-hour-state-of-florida-g-license-course/
END:VEVENT
BEGIN:VEVENT
DTSTART;TZID=UTC:20230303T080000
DTEND;TZID=UTC:20230308T170000
DTSTAMP:20260423T184535
CREATED:20230205T172750Z
LAST-MODIFIED:20230205T172750Z
UID:574-1677830400-1678294800@tier1epsecurity.com
SUMMARY:Executive Protection Agent Training--- SOLD OUT!
DESCRIPTION:This elite executive protection(EP) training program takes the already licensed G armed security guard or PI to the next level.  Training will include professional behavior\, etiquette\, dress\, and EP skills.  Focus on VIP protection\, movement and armed security drills. Threat analysis. Formations with single and multiple EP agents.  Driving skills\, awareness and tailing observation.   Home protection and body guard training.  Student must already possess G license.  Prior interview to be accepted to course. courses vary from 16 hours to 40 hours \n \n  \n16 hour course and certification $1300.00 per student \n40 hour course and certification $2800.00
URL:https://tier1epsecurity.com/event/executive-protection-agent-training-sold-out/
END:VEVENT
BEGIN:VEVENT
DTSTART;TZID=UTC:20230301T090000
DTEND;TZID=UTC:20230301T130000
DTSTAMP:20260423T184535
CREATED:20230205T170937Z
LAST-MODIFIED:20230205T170937Z
UID:568-1677661200-1677675600@tier1epsecurity.com
SUMMARY:State of Florida G requalifiaction
DESCRIPTION:Don’t let your license lapse!!   State of Florida G license holders are required annually to take a 4-hour classroom and live fire qualification course.  In this 4-hour course\, we will review laws\, basic gun handling and safety.  You will be given a 25-question written test and a qualification course of live fire on the range.  Failure will result in student having to retake the 4-hour course and repay\, or possible loss of license.  No refunds will be given. \n*Cost $175.00 per student.  Range fees and targets included.  Student must provide\, handgun\, 3 magazines\, magazine holder\, duty style belt and 150 rounds of ammunition. (Less ammunition will be needed if you qualify on first or second round)
URL:https://tier1epsecurity.com/event/state-of-florida-g-requalifiaction/
END:VEVENT
BEGIN:VEVENT
DTSTART;TZID=UTC:20230225T080000
DTEND;TZID=UTC:20230225T170000
DTSTAMP:20260423T184535
CREATED:20230205T164409Z
LAST-MODIFIED:20230205T164409Z
UID:551-1677312000-1677344400@tier1epsecurity.com
SUMMARY:Basic hand gun skills course
DESCRIPTION:Learn basic handgun skills\, safety rules\, and live fire training.  This 8-hour class will be conducted in 1 day.  Classroom will consist of power points discussing safety rules\, proper handgun skills\, basic handgun\,  and self-defense. We will discuss grip\, stance\, sight alignment\, sight picture\, movement\, the draw from holster and concealment. Once we are done in the classroom\, we will head to the range and perform live fire drills. \nCost $199.95 per student. Range fee and targets included.  Student must supply 150 rounds of ammunition and bring their own guns\, holsters and at least 3 magazines and holder. (Guns and ammo available for rent $125)
URL:https://tier1epsecurity.com/event/basic-hand-gun-skills-course/
END:VEVENT
BEGIN:VEVENT
DTSTART;TZID=UTC:20230214T090000
DTEND;TZID=UTC:20230214T130000
DTSTAMP:20260423T184535
CREATED:20230205T162553Z
LAST-MODIFIED:20230205T162553Z
UID:547-1676365200-1676379600@tier1epsecurity.com
SUMMARY:State of Florida G license annual requalification
DESCRIPTION:Don’t let your license lapse!!   State of Florida G license holders are required annually to take a 4-hour classroom and live fire qualification course.  In this 4-hour course\, we will review laws\, basic gun handling and safety.  You will be given a 25-question written test and a qualification course of live fire on the range.  Failure will result in student having to retake the 4-hour course and repay\, or possible loss of license.  No refunds will be given. \n*Cost $175.00 per student.  Range fees and targets included.  Student must provide\, handgun\, 3 magazines\, magazine holder\, duty style belt and 150 rounds of ammunition. (Less ammunition will be needed if you qualify on first or second round)
URL:https://tier1epsecurity.com/event/state-of-florida-g-license-annual-requalification/
END:VEVENT
BEGIN:VEVENT
DTSTART;TZID=UTC:20230212T090000
DTEND;TZID=UTC:20230212T130000
DTSTAMP:20260423T184535
CREATED:20230205T162327Z
LAST-MODIFIED:20230205T162327Z
UID:545-1676192400-1676206800@tier1epsecurity.com
SUMMARY:Concealed Weapons Class State of Florida
DESCRIPTION:Learn basic firearm safety rules\, laws\, and safe gun handling techniques.  During this 4-hour class\, you will learn proper grip\, stance and firing techniques. You will learn about sight alignment\, sight picture\, and the proper time to use them.  We will study laws\, case reviews\, what to do and say if you are ever involved in a self-defense shooting.  This training is required in the State of Florida to obtain your CCW permit. \nCouples\, groups\, and private training available. \nCost $129.95 per student.  (Ammo\, gun rental\, range fee and targets included in price)
URL:https://tier1epsecurity.com/event/concealed-weapons-class-state-of-florida/
END:VEVENT
BEGIN:VEVENT
DTSTART;TZID=America/New_York:20230206T100000
DTEND;TZID=America/New_York:20230206T140000
DTSTAMP:20260423T184535
CREATED:20230201T234930Z
LAST-MODIFIED:20230201T234930Z
UID:453-1675677600-1675692000@tier1epsecurity.com
SUMMARY:requal
DESCRIPTION:← Back Thank you for your response. ✨\n\n\n					\n						\n							\n							\n						\n						\n						\n						\n						\n							\n								\n									\n										\n										\n									\n									\n										\n										\n									\n								\n							\n						\n						\n							\n								\n									\n									\n										\n									\n									\n									\n								\n							\n						\n					\n				\n\n\n\nName(required)\n\n \n			\n				\n					\n						\n						\n						\n					\n				\n				\n			 \n	\n\n\nEmail(required)\n\n \n			\n				\n					\n						\n						\n						\n					\n				\n				\n			 \n	\n\n\nWebsite\n\n \n			\n				\n					\n						\n						\n						\n					\n				\n				\n			 \n	\n\n\nMessage\n\n \n			\n				\n					\n						\n						\n						\n					\n				\n				\n			\n	\n	\n\n				\n					\n				\n						Submit
URL:https://tier1epsecurity.com/event/requal/
END:VEVENT
BEGIN:VEVENT
DTSTART;TZID=UTC:20230204T100000
DTEND;TZID=UTC:20230204T140000
DTSTAMP:20260423T184535
CREATED:20230203T213502Z
LAST-MODIFIED:20230203T213502Z
UID:491-1675504800-1675519200@tier1epsecurity.com
SUMMARY:Women's only private CCW class
DESCRIPTION:Private event for a local church. Concealed weapons and handgun safety course!
URL:https://tier1epsecurity.com/event/womens-only-private-ccw-class/
END:VEVENT
BEGIN:VEVENT
DTSTART;TZID=UTC:20230202T080000
DTEND;TZID=UTC:20230202T170000
DTSTAMP:20260423T184535
CREATED:20230201T185124Z
LAST-MODIFIED:20230201T185124Z
UID:442-1675324800-1675357200@tier1epsecurity.com
SUMMARY:Concealed weapons test event
DESCRIPTION:← Back Thank you for your response. ✨\n\n\n					\n						\n							\n							\n						\n						\n						\n						\n						\n							\n								\n									\n										\n										\n									\n									\n										\n										\n									\n								\n							\n						\n						\n							\n								\n									\n									\n										\n									\n									\n									\n								\n							\n						\n					\n				\n\n\n\nName(required)\n\n \n			\n				\n					\n						\n						\n						\n					\n				\n				\n			 \n	\n\n\nEmail(required)\n\n \n			\n				\n					\n						\n						\n						\n					\n				\n				\n			 \n	\n\n\nWebsite\n\n \n			\n				\n					\n						\n						\n						\n					\n				\n				\n			 \n	\n\n\nMessage\n\n \n			\n				\n					\n						\n						\n						\n					\n				\n				\n			\n	\n	\n\n				\n					\n				\n						Submit
URL:https://tier1epsecurity.com/event/concealed-weapons-test-event/
ORGANIZER;CN="Brad":MAILTO:Brad@tier1epsecurity.com
END:VEVENT
END:VCALENDAR